BEGIN:VCALENDAR
VERSION:2.0
PRODID:-// - ECPv6.15.20//NONSGML v1.0//EN
CALSCALE:GREGORIAN
METHOD:PUBLISH
X-ORIGINAL-URL:https://www.garajduro.org
X-WR-CALDESC:Évènements pour 
REFRESH-INTERVAL;VALUE=DURATION:PT1H
X-Robots-Tag:noindex
X-PUBLISHED-TTL:PT1H
BEGIN:VTIMEZONE
TZID:Europe/Paris
BEGIN:DAYLIGHT
TZOFFSETFROM:+0100
TZOFFSETTO:+0200
TZNAME:CEST
DTSTART:20250330T010000
END:DAYLIGHT
BEGIN:STANDARD
TZOFFSETFROM:+0200
TZOFFSETTO:+0100
TZNAME:CET
DTSTART:20251026T010000
END:STANDARD
BEGIN:DAYLIGHT
TZOFFSETFROM:+0100
TZOFFSETTO:+0200
TZNAME:CEST
DTSTART:20260329T010000
END:DAYLIGHT
BEGIN:STANDARD
TZOFFSETFROM:+0200
TZOFFSETTO:+0100
TZNAME:CET
DTSTART:20261025T010000
END:STANDARD
BEGIN:DAYLIGHT
TZOFFSETFROM:+0100
TZOFFSETTO:+0200
TZNAME:CEST
DTSTART:20270328T010000
END:DAYLIGHT
BEGIN:STANDARD
TZOFFSETFROM:+0200
TZOFFSETTO:+0100
TZNAME:CET
DTSTART:20271031T010000
END:STANDARD
END:VTIMEZONE
BEGIN:VEVENT
DTSTART;TZID=Europe/Paris:20260513T200000
DTEND;TZID=Europe/Paris:20260514T010000
DTSTAMP:20260421T111606
CREATED:20260330T091124Z
LAST-MODIFIED:20260415T184244Z
UID:3336-1778702400-1778720400@www.garajduro.org
SUMMARY:Soirée Label Charrues
DESCRIPTION:
URL:https://www.garajduro.org/index.php/event/soiree-label-charrues/
ATTACH;FMTTYPE=image/jpeg:https://www.garajduro.org/wp-content/uploads/2026/03/654977086_1383253026940788_7738100945217405035_n.jpg
END:VEVENT
BEGIN:VEVENT
DTSTART;TZID=Europe/Paris:20260522T190000
DTEND;TZID=Europe/Paris:20260524T233000
DTSTAMP:20260421T111606
CREATED:20260410T105513Z
LAST-MODIFIED:20260415T211545Z
UID:3385-1779476400-1779665400@www.garajduro.org
SUMMARY:Diskord
DESCRIPTION:
URL:https://www.garajduro.org/index.php/event/diskord/
ATTACH;FMTTYPE=image/jpeg:https://www.garajduro.org/wp-content/uploads/2026/04/affiche-diskord-carree-scaled.jpg
END:VEVENT
END:VCALENDAR